BEGIN:VCALENDAR
VERSION:2.0
PRODID:-//uhboptsp-osijek.hr - ECPv6.15.20//NONSGML v1.0//EN
CALSCALE:GREGORIAN
METHOD:PUBLISH
X-ORIGINAL-URL:https://uhboptsp-osijek.hr
X-WR-CALDESC:Događaji za uhboptsp-osijek.hr
REFRESH-INTERVAL;VALUE=DURATION:PT1H
X-Robots-Tag:noindex
X-PUBLISHED-TTL:PT1H
BEGIN:VTIMEZONE
TZID:Europe/Zagreb
BEGIN:DAYLIGHT
TZOFFSETFROM:+0100
TZOFFSETTO:+0200
TZNAME:CEST
DTSTART:20250330T010000
END:DAYLIGHT
BEGIN:STANDARD
TZOFFSETFROM:+0200
TZOFFSETTO:+0100
TZNAME:CET
DTSTART:20251026T010000
END:STANDARD
BEGIN:DAYLIGHT
TZOFFSETFROM:+0100
TZOFFSETTO:+0200
TZNAME:CEST
DTSTART:20260329T010000
END:DAYLIGHT
BEGIN:STANDARD
TZOFFSETFROM:+0200
TZOFFSETTO:+0100
TZNAME:CET
DTSTART:20261025T010000
END:STANDARD
BEGIN:DAYLIGHT
TZOFFSETFROM:+0100
TZOFFSETTO:+0200
TZNAME:CEST
DTSTART:20270328T010000
END:DAYLIGHT
BEGIN:STANDARD
TZOFFSETFROM:+0200
TZOFFSETTO:+0100
TZNAME:CET
DTSTART:20271031T010000
END:STANDARD
END:VTIMEZONE
BEGIN:VEVENT
DTSTART;VALUE=DATE:20261118
DTEND;VALUE=DATE:20261119
DTSTAMP:20260425T224321
CREATED:20220923T103103Z
LAST-MODIFIED:20260107T004129Z
UID:552-1794960000-1795046399@uhboptsp-osijek.hr
SUMMARY:PAD GRADA VUKOVARA
DESCRIPTION:
URL:https://uhboptsp-osijek.hr/event/pad-grada-vukovara-2/
END:VEVENT
BEGIN:VEVENT
DTSTART;VALUE=DATE:20261205
DTEND;VALUE=DATE:20261206
DTSTAMP:20260425T224321
CREATED:20220923T103202Z
LAST-MODIFIED:20260107T004213Z
UID:554-1796428800-1796515199@uhboptsp-osijek.hr
SUMMARY:DAN OBRANE GRADA OSIJEKA – ROSINJAČA
DESCRIPTION:
URL:https://uhboptsp-osijek.hr/event/dan-obrane-grada-osijeka-rosinjaca-2/
END:VEVENT
BEGIN:VEVENT
DTSTART;VALUE=DATE:20261210
DTEND;VALUE=DATE:20261211
DTSTAMP:20260425T224321
CREATED:20220923T103558Z
LAST-MODIFIED:20260107T004248Z
UID:556-1796860800-1796947199@uhboptsp-osijek.hr
SUMMARY:DAN UDRUGE I OBRANE GRADA OSIJEKA
DESCRIPTION:
URL:https://uhboptsp-osijek.hr/event/dan-udruge-i-obrane-grada-osijeka-2/
END:VEVENT
END:VCALENDAR