BEGIN:VCALENDAR
VERSION:2.0
PRODID:-//uhboptsp-osijek.hr - ECPv6.15.20//NONSGML v1.0//EN
CALSCALE:GREGORIAN
METHOD:PUBLISH
X-WR-CALNAME:uhboptsp-osijek.hr
X-ORIGINAL-URL:https://uhboptsp-osijek.hr
X-WR-CALDESC:Događaji za uhboptsp-osijek.hr
REFRESH-INTERVAL;VALUE=DURATION:PT1H
X-Robots-Tag:noindex
X-PUBLISHED-TTL:PT1H
BEGIN:VTIMEZONE
TZID:Europe/Zagreb
BEGIN:DAYLIGHT
TZOFFSETFROM:+0100
TZOFFSETTO:+0200
TZNAME:CEST
DTSTART:20250330T010000
END:DAYLIGHT
BEGIN:STANDARD
TZOFFSETFROM:+0200
TZOFFSETTO:+0100
TZNAME:CET
DTSTART:20251026T010000
END:STANDARD
BEGIN:DAYLIGHT
TZOFFSETFROM:+0100
TZOFFSETTO:+0200
TZNAME:CEST
DTSTART:20260329T010000
END:DAYLIGHT
BEGIN:STANDARD
TZOFFSETFROM:+0200
TZOFFSETTO:+0100
TZNAME:CET
DTSTART:20261025T010000
END:STANDARD
BEGIN:DAYLIGHT
TZOFFSETFROM:+0100
TZOFFSETTO:+0200
TZNAME:CEST
DTSTART:20270328T010000
END:DAYLIGHT
BEGIN:STANDARD
TZOFFSETFROM:+0200
TZOFFSETTO:+0100
TZNAME:CET
DTSTART:20271031T010000
END:STANDARD
END:VTIMEZONE
BEGIN:VEVENT
DTSTART;VALUE=DATE:20260530
DTEND;VALUE=DATE:20260531
DTSTAMP:20260425T182446
CREATED:20220923T102706Z
LAST-MODIFIED:20251107T173457Z
UID:542-1780099200-1780185599@uhboptsp-osijek.hr
SUMMARY:DAN DRŽAVNOSTI
DESCRIPTION:
URL:https://uhboptsp-osijek.hr/event/dan-drzavnosti-3/
END:VEVENT
BEGIN:VEVENT
DTSTART;TZID=Europe/Zagreb:20260502T080000
DTEND;TZID=Europe/Zagreb:20260502T170000
DTSTAMP:20260425T182446
CREATED:20220923T102628Z
LAST-MODIFIED:20251107T173523Z
UID:540-1777708800-1777741200@uhboptsp-osijek.hr
SUMMARY:STRADAVANJE 12 REDARSTVENIKA - BOROVO SELO
DESCRIPTION:
URL:https://uhboptsp-osijek.hr/event/stradavanje-12-redarstvenika-borovo-selo-2/
END:VEVENT
BEGIN:VEVENT
DTSTART;VALUE=DATE:20260501
DTEND;VALUE=DATE:20260502
DTSTAMP:20260425T182446
CREATED:20220923T102426Z
LAST-MODIFIED:20251107T173038Z
UID:538-1777593600-1777679999@uhboptsp-osijek.hr
SUMMARY:VRO BLJESAK
DESCRIPTION:
URL:https://uhboptsp-osijek.hr/event/vro-bljesak-3/
END:VEVENT
BEGIN:VEVENT
DTSTART;VALUE=DATE:20260429
DTEND;VALUE=DATE:20260430
DTSTAMP:20260425T182446
CREATED:20220923T102332Z
LAST-MODIFIED:20251107T173553Z
UID:536-1777420800-1777507199@uhboptsp-osijek.hr
SUMMARY:DAN 3. GARDIJSKE BRIGADE-KUNE
DESCRIPTION:
URL:https://uhboptsp-osijek.hr/event/dan-3-gardijske-brigade-kune-2/
END:VEVENT
BEGIN:VEVENT
DTSTART;VALUE=DATE:20260303
DTEND;VALUE=DATE:20260304
DTSTAMP:20260425T182446
CREATED:20220923T102225Z
LAST-MODIFIED:20251107T173617Z
UID:534-1772496000-1772582399@uhboptsp-osijek.hr
SUMMARY:DAN SPECIJALNE POLICIJE ORAO-OSIJEK
DESCRIPTION:
URL:https://uhboptsp-osijek.hr/event/dan-specijalne-policije-orao-osijek-2/
END:VEVENT
BEGIN:VEVENT
DTSTART;TZID=Europe/Zagreb:20260120T080000
DTEND;TZID=Europe/Zagreb:20260120T170000
DTSTAMP:20260425T182446
CREATED:20220923T102122Z
LAST-MODIFIED:20251107T173640Z
UID:532-1768896000-1768928400@uhboptsp-osijek.hr
SUMMARY:VRO MASLENICA
DESCRIPTION:
URL:https://uhboptsp-osijek.hr/event/vro-maslenica-2/
END:VEVENT
BEGIN:VEVENT
DTSTART;TZID=Europe/Zagreb:20260115T080000
DTEND;TZID=Europe/Zagreb:20260115T170000
DTSTAMP:20260425T182446
CREATED:20240103T150312Z
LAST-MODIFIED:20251107T173707Z
UID:719-1768464000-1768496400@uhboptsp-osijek.hr
SUMMARY:MEĐUNARODNI DAN PRIZNANJA REPUBLIKE HRVATSKE
DESCRIPTION:
URL:https://uhboptsp-osijek.hr/event/medunarodni-dan-priznanja-republike-hrvatske/
END:VEVENT
END:VCALENDAR